Workbook

Sheet TABLAS BÁSICAS
B2: MACROPROCESO SGC | D2: PARTE INTERESADA | F2: TIPO DE RIESGO | H2: EL RIESGO SE HA MATERIALIZADO | J2: TRTAMIENTO | L2: AVANCE DE LAS ACTIVIDADES | N2: EVALAUCIÓN DE LAS ACTIVIDADES
B3: Administración de Biblioteca | D3: Consejo Superior y/o sus comisiones | F3: Jurídico | H3: Si | J3: Asumir | L3: Abierta sin Gestión | N3: Eficaz
B4: Administración de Registro Académico | D4: Profesores y/o empleados administrativos | F4: Estratégico | H4: No | J4: Reducir | L4: En Proceso | N4: No Eficaz
B5: Administración Financiera | D5: Macroprocesos institucionales | F5: Financiero | J5: Evitar | L5: Cerrada | N5: N.A.
B6: Becas y Financiación | D6: Estudiantes de pregrado y/o estudiantes de posgrado | F6: Ambiental | J6: Compartir - Reducir | L6: N.A.
B7: Gestión de Compras y Contratación | D7: Aspirantes | F7: Salud y Seguridad Industrial | J7: Compartir - Evitar
B8: Gestión de Desarrollo Humano | D8: Colegios objetivo | F8: Tecnológico | J8: Transferir
B9: Gestión de Infraestructura Física | D9: Graduados | F9: Procesos, Producto y Servicio | J9: N.A.
B10: Gestión de la Información | D10: Familias de la comunidad universitaria | F10: Activos e Infraestructura
B11: Gestión de Sistemas y Tecnologías de Información | D11: Donantes
B12: Gestión para el Bienestar Universitario | D12: Organizaciones cliente
B13: Mejora Continua | D13: Municipios de Sabana Centro
B14: PIAMI | D14: Proveedores
B15: Planeación Estratégica | D15: Acreedores
B16: Seguridad y Salud en el Trabajo | D16: Entes de control y vigilancia
D17: Medio ambiente
D18: Medios de comunicación
D19: Visitantes externos
B23: Probabilidad Ocurrencia | D23: Impacto Generado | F23: Sistema asociado
F24: Si
B25: Raro | D25: Menor | F25: No
B26: Posible | D26: Moderado
B27: Probable | D27: Mayor
B28: Muy Probable | D28: Catastrófico

Sheet MATRIZ DE RIESGO
B7: FECHA ULTIMA REVISION : Febrero 2024
B8: I. IDENTIFICACIÓN DEL RIESGO | N8: II. ANÁLISIS DE RIESGOS | AD8: III. VALORACIÓN RIESGO INHERENTE | AG8: IV. EVALUACIÓN DEL RIESGO | BC8: V. VALORACIÓN RIESGO RESIDUAL | BE8: PROB. VS IMPACTO | BF8: VI. TIPO DE TRATAMIENTO PARA EL RIESGO | BG8: VII. PLAN DE ACCIÓN | BJ8: VII. SEGUIMIENTO AL PLAN DE ACCIÓN
B9: ID Riesgo | D9: Sistema Asociado al Riesgo | J9: Tipo de Riesgo | K9: Descripción del Riesgo | L9: ¿El riesgo ya se ha materializado? | M9: Parte Interesada Asociada | N9: Probabilidad Ocurrencia | O9: Valoración | P9: Impacto Generado | AB9: Calificación Impacto | AD9: Riesgo Inherente | AF9: PROB. VS IMPACTO | AG9: Causa que puede originar la materialización del riesgo | AH9: Controles del Riesgo | AM9: Probabilidad Ocurrencia | AN9: Valoración | AO9: Impacto Generado | BA9: Calificación Impacto | BC9: Riesgo Residual | BG9: Descripción de las Actividades a Seguir | BH9: Responsable de las Actividades | BI9: Fecha Límite de Cumplimiento de las Actividades | BJ9: Seguimiento a las Actividades | BK9: Avance de la Actividades | BL9: Evaluación de las Actividades
D10: Calidad | E10: Ambiental | F10: SST | G10: Seguridad de la Información | H10: Anticorrupción | I10: MIPG | P10: LEGAL | R10: DESARROLLO INSTITUCIONAL | T10: REPUTACIONAL | V10: ECONÓMICO | X10: PERSONAS | Z10: MEDIO AMBIENTE | AH10: ¿Existen Controles? | AI10: Descripción de Controles Existentes | AJ10: ¿Los Controles se están Aplicando? | AK10: ¿Los Controles están Documentados? | AL10: ¿Los Controles son Efectivos? | AO10: LEGAL | AQ10: DESARROLLO INSTITUCIONAL | AS10: REPUTACIONAL | AU10: ECONÓMICO | AW10: PERSONAS | AY10: MEDIO AMBIENTE
B11: R-GTI-001 | D11: Si | E11: No | F11: No | G11: Si | H11: No | I11: Si | J11: Tecnológico | K11: Insuficiencia e inadecuada infraestructura tecnológica | L11: No | M11: * Entes de Control y Vigilancia * Colaboradores * Proveedores y/o Contratistas | N11: Raro | O11: =IF(N11="Raro","1",IF(N11="Posible","2",IF(N11="Probable","3",IF(N11="Muy Probable","4"," ")))) -> 1 | P11: Moderado | Q11: =_xlfn.NUMBERVALUE(IF(P11="Menor","1",IF(P11="Moderado","2",IF(P11="Mayor","3",IF(P11="Catastrófico","4"," "))))) -> 2 | R11: Moderado | S11: =_xlfn.NUMBERVALUE(IF(R11="Menor","1",IF(R11="Moderado","2",IF(R11="Mayor","3",IF(R11="Catastrófico","4"," "))))) -> 2 | T11: Moderado | U11: =_xlfn.NUMBERVALUE(IF(T11="Menor","1",IF(T11="Moderado","2",IF(T11="Mayor","3",IF(T11="Catastrófico","4"," "))))) -> 2 | V11: Moderado | W11: =_xlfn.NUMBERVALUE(IF(V11="Menor","1",IF(V11="Moderado","2",IF(V11="Mayor","3",IF(V11="Catastrófico","4"," "))))) -> 2 | X11: Moderado | Y11: =_xlfn.NUMBERVALUE(IF(X11="Menor","1",IF(X11="Moderado","2",IF(X11="Mayor","3",IF(X11="Catastrófico","4"," "))))) -> 2 | Z11: Menor | AA11: =_xlfn.NUMBERVALUE(IF(Z11="Menor","1",IF(Z11="Moderado","2",IF(Z11="Mayor","3",IF(Z11="Catastrófico","4"," "))))) -> 1 | AB11: =IF(AC11=1,"Menor",IF(AC11=2,"Moderado",IF(AC11=3,"Mayor",IF(AC11=4,"Catastrófico"," ")))) -> Moderado | AC11: =MAX(P11,Q11,S11,U11,W11,Y11,AA11) -> 2 | AD11: =IF(AE11>=10.1,"Extremo",IF(AE11>=6.1,"Alto",IF(AE11>=3.1,"Moderado",IF(AE11>0,"Bajo"," ")))) -> Bajo | AE11: =+O11*AC11 -> 2 | AF11: =CONCATENATE(N11,AB11) -> RaroModerado | AG11: * Cambios de tecnologia no controlados a nivel general * Crecimiento desmesurado de la comunidad atendida * Incumplimiento por parte de servicios tercerizados * Insuficiencia de recursos economicos * Insuficiencia de personal capacitado. | AH11: Si | AI11: 1- Actualizacion constante en temas de tecnologia 2- Crecimiento de la poblacion atendida controlada 3- Contratos, Supervicion a contratos y polizas con terceros. 4- Presupuesto anual planificado y cumplido. 5- Programa de mantenimiento preventivo 6- Hojas de vida de equipos de computo. | AJ11: Si | AK11: Si | AL11: Si | AM11: Raro | AN11: =IF(AM11="Raro","1",IF(AM11="Posible","2",IF(AM11="Probable","3",IF(AM11="Muy Probable","4"," ")))) -> 1 | AO11: Moderado | AP11: Mayor | AQ11: Moderado | AR11: Mayor | AS11: Menor | AT11: Mayor | AU11: Moderado | AV11: Mayor | AW11: Menor | AX11: Mayor | AY11: Menor | AZ11: =_xlfn.NUMBERVALUE(IF(AY11="Menor","1",IF(AY11="Moderado","2",IF(AY11="Mayor","3",IF(AY11="Catastrófico","4"," "))))) -> 1 | BA11: =IF(BB11=1,"Menor",IF(BB11=2,"Moderado",IF(BB11=3,"Mayor",IF(BB11=4,"Catastrófico"," ")))) -> Menor | BB11: =MAX(AP11,AR11,AT11,AV11,AX11,AZ11) -> 1 | BC11: =IF(BD11>=10.1,"Extremo",IF(BD11>=6.1,"Alto",IF(BD11>=3.1,"Moderado",IF(BD11>0,"Bajo"," ")))) -> Bajo | BD11: =AN11*BB11 -> 1 | BE11: =CONCATENATE(AM11,BA11) -> RaroMenor | BF11: Asumir | BG11: Ejecutar los controles de acuerdo a los cronogramas y programa establecido. | BH11: * Profesional universitario sistemas * Apoyo sistemas | BI11: 1,2 y3- Permanente 4- Diciembre 2024 5- Permanente 6- junio 2024 | BJ11: 1,2 y 3- Se realiza de forma permanente para la mejora continua del proceso 4- Se planificó el presupuesto nececesario para el 2024 5- Se desarrolla constantemente el mantenimiento de los equipos y se registra en la hoja de vida de equipos 6- Se realizaron las respectivas hoja de vida a todos los equipos. | BK11: En Proceso | BL11: Eficaz
B12: R-GTI-002 | D12: Si | E12: No | F12: No | G12: Si | H12: No | I12: Si | J12: Tecnológico | K12: Accesos no autorizados al area fisica de la empresa | L12: No | M12: * Entes de Control y Vigilancia * Colaboradores * Proveedores y/o Contratistas | N12: Raro | O12: =IF(N12="Raro","1",IF(N12="Posible","2",IF(N12="Probable","3",IF(N12="Muy Probable","4"," ")))) -> 1 | P12: Mayor | Q12: =_xlfn.NUMBERVALUE(IF(P12="Menor","1",IF(P12="Moderado","2",IF(P12="Mayor","3",IF(P12="Catastrófico","4"," "))))) -> 3 | R12: Moderado | S12: =_xlfn.NUMBERVALUE(IF(R12="Menor","1",IF(R12="Moderado","2",IF(R12="Mayor","3",IF(R12="Catastrófico","4"," "))))) -> 2 | T12: Moderado | U12: =_xlfn.NUMBERVALUE(IF(T12="Menor","1",IF(T12="Moderado","2",IF(T12="Mayor","3",IF(T12="Catastrófico","4"," "))))) -> 2 | V12: Mayor | W12: =_xlfn.NUMBERVALUE(IF(V12="Menor","1",IF(V12="Moderado","2",IF(V12="Mayor","3",IF(V12="Catastrófico","4"," "))))) -> 3 | X12: Moderado | Y12: =_xlfn.NUMBERVALUE(IF(X12="Menor","1",IF(X12="Moderado","2",IF(X12="Mayor","3",IF(X12="Catastrófico","4"," "))))) -> 2 | Z12: Menor | AA12: =_xlfn.NUMBERVALUE(IF(Z12="Menor","1",IF(Z12="Moderado","2",IF(Z12="Mayor","3",IF(Z12="Catastrófico","4"," "))))) -> 1 | AB12: =IF(AC12=1,"Menor",IF(AC12=2,"Moderado",IF(AC12=3,"Mayor",IF(AC12=4,"Catastrófico"," ")))) -> Mayor | AC12: =MAX(P12,Q12,S12,U12,W12,Y12,AA12) -> 3 | AD12: =IF(AE12>=10.1,"Extremo",IF(AE12>=6.1,"Alto",IF(AE12>=3.1,"Moderado",IF(AE12>0,"Bajo"," ")))) -> Bajo | AE12: =+O12*AC12 -> 3 | AF12: =CONCATENATE(N12,AB12) -> RaroMayor | AG12: * Falla en los sistemas de control de acceso * Perdida de elementos de seguridad como llaves y contraseñas de alarma. * Complicidad del personal de seguridad | AH12: Si | AI12: 1- Vigilancia contratada con empresas reconocidas a nivel nacional. 2- Sistema de chapas y elementos de seguridad doble para ingreso a las instalaciones 3- Varias personas autorizadas con permiso gerencial para el acceso. | AJ12: Si | AK12: Si | AL12: Si | AM12: Raro | AN12: =IF(AM12="Raro","1",IF(AM12="Posible","2",IF(AM12="Probable","3",IF(AM12="Muy Probable","4"," ")))) -> 1 | AO12: Moderado | AP12: Mayor | AQ12: Moderado | AR12: Mayor | AS12: Moderado | AT12: Mayor | AU12: Moderado | AV12: Mayor | AW12: Menor | AX12: Mayor | AY12: Menor | AZ12: =_xlfn.NUMBERVALUE(IF(AY12="Menor","1",IF(AY12="Moderado","2",IF(AY12="Mayor","3",IF(AY12="Catastrófico","4"," "))))) -> 1 | BA12: =IF(BB12=1,"Menor",IF(BB12=2,"Moderado",IF(BB12=3,"Mayor",IF(BB12=4,"Catastrófico"," ")))) -> Menor | BB12: =MAX(AP12,AR12,AT12,AV12,AX12,AZ12) -> 1 | BC12: =IF(BD12>=10.1,"Extremo",IF(BD12>=6.1,"Alto",IF(BD12>=3.1,"Moderado",IF(BD12>0,"Bajo"," ")))) -> Bajo | BD12: =AN12*BB12 -> 1 | BE12: =CONCATENATE(AM12,BA12) -> RaroMenor | BF12: Asumir | BG12: Continuar con los controles para el acceso de personas a la planta fisicia de la empresa | BH12: * Profesional universitario sistemas * Apoyo sistemas | BI12: 45627 | BJ12: 1- Se contrato empresa de vigilancia la cual cumple con los estadares establecidos para la seguridad de la planta fisica. 2- Se implemento chapas y elementos de seguridad donde solo el personal autorizado tiene acceso. | BK12: Cerrada | BL12: Eficaz
B13: R-GTI-003 | D13: Si | E13: No | F13: No | G13: Si | H13: No | I13: Si | J13: Tecnológico | K13: Incumplimiento o inconsistencias en el Backup institucional | L13: No | M13: * Entes de Control y Vigilancia * Colaboradores * Proveedores y/o Contratistas | N13: Raro | O13: =IF(N13="Raro","1",IF(N13="Posible","2",IF(N13="Probable","3",IF(N13="Muy Probable","4"," ")))) -> 1 | P13: Menor | Q13: =_xlfn.NUMBERVALUE(IF(P13="Menor","1",IF(P13="Moderado","2",IF(P13="Mayor","3",IF(P13="Catastrófico","4"," "))))) -> 1 | R13: Moderado | S13: =_xlfn.NUMBERVALUE(IF(R13="Menor","1",IF(R13="Moderado","2",IF(R13="Mayor","3",IF(R13="Catastrófico","4"," "))))) -> 2 | T13: Moderado | U13: =_xlfn.NUMBERVALUE(IF(T13="Menor","1",IF(T13="Moderado","2",IF(T13="Mayor","3",IF(T13="Catastrófico","4"," "))))) -> 2 | V13: Menor | W13: =_xlfn.NUMBERVALUE(IF(V13="Menor","1",IF(V13="Moderado","2",IF(V13="Mayor","3",IF(V13="Catastrófico","4"," "))))) -> 1 | X13: Catastrófico | Y13: =_xlfn.NUMBERVALUE(IF(X13="Menor","1",IF(X13="Moderado","2",IF(X13="Mayor","3",IF(X13="Catastrófico","4"," "))))) -> 4 | Z13: Moderado | AA13: =_xlfn.NUMBERVALUE(IF(Z13="Menor","1",IF(Z13="Moderado","2",IF(Z13="Mayor","3",IF(Z13="Catastrófico","4"," "))))) -> 2 | AB13: =IF(AC13=1,"Menor",IF(AC13=2,"Moderado",IF(AC13=3,"Mayor",IF(AC13=4,"Catastrófico"," ")))) -> Catastrófico | AC13: =MAX(P13,Q13,S13,U13,W13,Y13,AA13) -> 4 | AD13: =IF(AE13>=10.1,"Extremo",IF(AE13>=6.1,"Alto",IF(AE13>=3.1,"Moderado",IF(AE13>0,"Bajo"," ")))) -> Moderado | AE13: =+O13*AC13 -> 4 | AF13: =CONCATENATE(N13,AB13) -> RaroCatastrófico | AG13: * Perdida fisica del dispositivo de almacenamiento * Backup de gestion unicamente es fisico. * Espacio de almacenamiento insuficiente. | AH13: Si | AI13: 1- Asignacion de dispositivos de almacenamiento 2- Copia de seguridad de base de datos externa 3- Validacion de la eficacia de las copias de seguridad. 4- Acuerdo de confidencialidad | AJ13: Si | AK13: Si | AL13: Si | AM13: Raro | AN13: =IF(AM13="Raro","1",IF(AM13="Posible","2",IF(AM13="Probable","3",IF(AM13="Muy Probable","4"," ")))) -> 1 | AO13: Moderado | AP13: Mayor | AQ13: Moderado | AR13: Mayor | AS13: Moderado | AT13: Mayor | AU13: Mayor | AV13: Mayor | AW13: Menor | AX13: Mayor | AY13: menor | AZ13: =_xlfn.NUMBERVALUE(IF(AY13="Menor","1",IF(AY13="Moderado","2",IF(AY13="Mayor","3",IF(AY13="Catastrófico","4"," "))))) -> 1 | BA13: =IF(BB13=1,"Menor",IF(BB13=2,"Moderado",IF(BB13=3,"Mayor",IF(BB13=4,"Catastrófico"," ")))) -> Menor | BB13: =MAX(AP13,AR13,AT13,AV13,AX13,AZ13) -> 1 | BC13: =IF(BD13>=10.1,"Extremo",IF(BD13>=6.1,"Alto",IF(BD13>=3.1,"Moderado",IF(BD13>0,"Bajo"," ")))) -> Bajo | BD13: =AN13*BB13 -> 1 | BE13: =CONCATENATE(AM13,BA13) -> RaroMenor | BF13: Asumir | BG13: Realizar actividades de revisión periodica de las tareas automaticas que realiza el software de copias de seguridad. Solicitar recursos adicionales para la adquisicion de herramientas de almacenamiento adicionales. | BH13: * Profesional universitario sistemas * Apoyo sistemas | BI13: Permanente | BJ13: 1-Cuando se presentan daños se realiza el cambio de equipo inmediato. 2- Se realiza una copia de seguridad semanal y otra mensual. 3- Se realiza la verificacion por parte del profesional de sistemas de la copia de seguridad 4- Se realiza una clausula del contrato de confidencialidad a los contratistas sobre la informacion que se maneja en la empresa | BK13: En Proceso | BL13: Eficaz
B14: R-GTI-004 | D14: Si | E14: No | F14: No | G14: Si | H14: No | I14: Si | J14: Tecnológico | K14: Acceso no autorizado al sistema de información de la EPC | L14: No | M14: * Colaboradores * Proveedores y/o Contratistas | N14: Raro | O14: =IF(N14="Raro","1",IF(N14="Posible","2",IF(N14="Probable","3",IF(N14="Muy Probable","4"," ")))) -> 1 | P14: Menor | Q14: =_xlfn.NUMBERVALUE(IF(P14="Menor","1",IF(P14="Moderado","2",IF(P14="Mayor","3",IF(P14="Catastrófico","4"," "))))) -> 1 | R14: Moderado | S14: =_xlfn.NUMBERVALUE(IF(R14="Menor","1",IF(R14="Moderado","2",IF(R14="Mayor","3",IF(R14="Catastrófico","4"," "))))) -> 2 | T14: Moderado | U14: =_xlfn.NUMBERVALUE(IF(T14="Menor","1",IF(T14="Moderado","2",IF(T14="Mayor","3",IF(T14="Catastrófico","4"," "))))) -> 2 | V14: Menor | W14: =_xlfn.NUMBERVALUE(IF(V14="Menor","1",IF(V14="Moderado","2",IF(V14="Mayor","3",IF(V14="Catastrófico","4"," "))))) -> 1 | X14: Catastrófico | Y14: =_xlfn.NUMBERVALUE(IF(X14="Menor","1",IF(X14="Moderado","2",IF(X14="Mayor","3",IF(X14="Catastrófico","4"," "))))) -> 4 | Z14: Moderado | AA14: =_xlfn.NUMBERVALUE(IF(Z14="Menor","1",IF(Z14="Moderado","2",IF(Z14="Mayor","3",IF(Z14="Catastrófico","4"," "))))) -> 2 | AB14: =IF(AC14=1,"Menor",IF(AC14=2,"Moderado",IF(AC14=3,"Mayor",IF(AC14=4,"Catastrófico"," ")))) -> Catastrófico | AC14: =MAX(P14,Q14,S14,U14,W14,Y14,AA14) -> 4 | AD14: =IF(AE14>=10.1,"Extremo",IF(AE14>=6.1,"Alto",IF(AE14>=3.1,"Moderado",IF(AE14>0,"Bajo"," ")))) -> Moderado | AE14: =+O14*AC14 -> 4 | AF14: =CONCATENATE(N14,AB14) -> RaroCatastrófico | AG14: 1- Falla en los controles de acceso al software | AH14: Si | AI14: 1- Asignacion de usuarios y contraseñas al personal autorizado centralizado. | AJ14: Si | AK14: Si | AL14: Si | AM14: Raro | AN14: =IF(AM14="Raro","1",IF(AM14="Posible","2",IF(AM14="Probable","3",IF(AM14="Muy Probable","4"," ")))) -> 1 | AO14: Moderado | AP14: Mayor | AQ14: Moderado | AR14: Mayor | AS14: Menor | AT14: Mayor | AU14: Moderado | AV14: Mayor | AW14: Menor | AX14: Mayor | AY14: Menor | AZ14: =_xlfn.NUMBERVALUE(IF(AY14="Menor","1",IF(AY14="Moderado","2",IF(AY14="Mayor","3",IF(AY14="Catastrófico","4"," "))))) -> 1 | BA14: =IF(BB14=1,"Menor",IF(BB14=2,"Moderado",IF(BB14=3,"Mayor",IF(BB14=4,"Catastrófico"," ")))) -> Menor | BB14: =MAX(AP14,AR14,AT14,AV14,AX14,AZ14) -> 1 | BC14: =IF(BD14>=10.1,"Extremo",IF(BD14>=6.1,"Alto",IF(BD14>=3.1,"Moderado",IF(BD14>0,"Bajo"," ")))) -> Bajo | BD14: =AN14*BB14 -> 1 | BE14: =CONCATENATE(AM14,BA14) -> RaroMenor | BF14: Asumir | BG14: Documentar el proceso de asignación de usuarios y contraseñas al sistema de información. | BH14: * Profesional universitario sistemas * Apoyo sistemas | BI14: 45427 | BJ14: 1- Se realizo entrega de usuarios y contraseñas a todos los funcionarios. | BK14: Cerrada | BL14: Eficaz
B15: R-GTI-005 | D15: Si | E15: No | F15: No | G15: Si | H15: No | I15: Si | J15: Tecnológico | K15: Instalación de malware en los equipos de computo | L15: No | M15: * Colaboradores * Proveedores y/o Contratistas | N15: Raro | O15: =IF(N15="Raro","1",IF(N15="Posible","2",IF(N15="Probable","3",IF(N15="Muy Probable","4"," ")))) -> 1 | P15: Moderado | Q15: =_xlfn.NUMBERVALUE(IF(P15="Menor","1",IF(P15="Moderado","2",IF(P15="Mayor","3",IF(P15="Catastrófico","4"," "))))) -> 2 | R15: Menor | S15: =_xlfn.NUMBERVALUE(IF(R15="Menor","1",IF(R15="Moderado","2",IF(R15="Mayor","3",IF(R15="Catastrófico","4"," "))))) -> 1 | T15: Mayor | U15: =_xlfn.NUMBERVALUE(IF(T15="Menor","1",IF(T15="Moderado","2",IF(T15="Mayor","3",IF(T15="Catastrófico","4"," "))))) -> 3 | V15: Moderado | W15: =_xlfn.NUMBERVALUE(IF(V15="Menor","1",IF(V15="Moderado","2",IF(V15="Mayor","3",IF(V15="Catastrófico","4"," "))))) -> 2 | X15: Menor | Y15: =_xlfn.NUMBERVALUE(IF(X15="Menor","1",IF(X15="Moderado","2",IF(X15="Mayor","3",IF(X15="Catastrófico","4"," "))))) -> 1 | Z15: Mayor | AA15: =_xlfn.NUMBERVALUE(IF(Z15="Menor","1",IF(Z15="Moderado","2",IF(Z15="Mayor","3",IF(Z15="Catastrófico","4"," "))))) -> 3 | AB15: =IF(AC15=1,"Menor",IF(AC15=2,"Moderado",IF(AC15=3,"Mayor",IF(AC15=4,"Catastrófico"," ")))) -> Mayor | AC15: =MAX(P15,Q15,S15,U15,W15,Y15,AA15) -> 3 | AD15: =IF(AE15>=10.1,"Extremo",IF(AE15>=6.1,"Alto",IF(AE15>=3.1,"Moderado",IF(AE15>0,"Bajo"," ")))) -> Bajo | AE15: =+O15*AC15 -> 3 | AF15: =CONCATENATE(N15,AB15) -> RaroMayor | AG15: 1- Falta de herramienta de seguridad 2- Falla en las herramientas de seguridad | AH15: Si | AI15: 1- Antivirus instalado y actualizado 2- Solicitud de herramientas de control automatico en presupuesto anual. | AJ15: Si | AK15: Si | AL15: Si | AM15: Raro | AN15: =IF(AM15="Raro","1",IF(AM15="Posible","2",IF(AM15="Probable","3",IF(AM15="Muy Probable","4"," ")))) -> 1 | AO15: Moderado | AP15: Mayor | AQ15: Moderado | AR15: Mayor | AS15: Moderado | AT15: Mayor | AU15: Menor | AV15: Mayor | AW15: Menor | AX15: Mayor | AY15: Moderado | AZ15: =_xlfn.NUMBERVALUE(IF(AY15="Menor","1",IF(AY15="Moderado","2",IF(AY15="Mayor","3",IF(AY15="Catastrófico","4"," "))))) -> 2 | BA15: =IF(BB15=1,"Menor",IF(BB15=2,"Moderado",IF(BB15=3,"Mayor",IF(BB15=4,"Catastrófico"," ")))) -> Moderado | BB15: =MAX(AP15,AR15,AT15,AV15,AX15,AZ15) -> 2 | BC15: =IF(BD15>=10.1,"Extremo",IF(BD15>=6.1,"Alto",IF(BD15>=3.1,"Moderado",IF(BD15>0,"Bajo"," ")))) -> Bajo | BD15: =AN15*BB15 -> 2 | BE15: =CONCATENATE(AM15,BA15) -> RaroModerado | BF15: Asumir | BG15: Llevar a cabo los controles existentes Realizar actividades de monitoreo que permitan revisar el funcionamiento del software antivirus | BH15: * Profesional universitario sistemas * Apoyo sistemas | BI15: 30 de octubre 2024 | BJ15: 1- Se realiza la adquisicion de herramientas de control en el presupuesto anual | BK15: Cerrada | BL15: Eficaz
B16: R-GTI-006 | D16: Si | E16: No | F16: No | G16: Si | H16: No | I16: Si | J16: Tecnológico | K16: Acceso no autorizado a los equipos de computo | L16: No | M16: * Colaboradores * Proveedores y/o Contratistas | N16: Raro | O16: =IF(N16="Raro","1",IF(N16="Posible","2",IF(N16="Probable","3",IF(N16="Muy Probable","4"," ")))) -> 1 | P16: Moderado | Q16: =_xlfn.NUMBERVALUE(IF(P16="Menor","1",IF(P16="Moderado","2",IF(P16="Mayor","3",IF(P16="Catastrófico","4"," "))))) -> 2 | R16: Catastrófico | S16: =_xlfn.NUMBERVALUE(IF(R16="Menor","1",IF(R16="Moderado","2",IF(R16="Mayor","3",IF(R16="Catastrófico","4"," "))))) -> 4 | T16: Mayor | U16: =_xlfn.NUMBERVALUE(IF(T16="Menor","1",IF(T16="Moderado","2",IF(T16="Mayor","3",IF(T16="Catastrófico","4"," "))))) -> 3 | V16: Mayor | W16: =_xlfn.NUMBERVALUE(IF(V16="Menor","1",IF(V16="Moderado","2",IF(V16="Mayor","3",IF(V16="Catastrófico","4"," "))))) -> 3 | X16: Menor | Y16: =_xlfn.NUMBERVALUE(IF(X16="Menor","1",IF(X16="Moderado","2",IF(X16="Mayor","3",IF(X16="Catastrófico","4"," "))))) -> 1 | Z16: Mayor | AA16: =_xlfn.NUMBERVALUE(IF(Z16="Menor","1",IF(Z16="Moderado","2",IF(Z16="Mayor","3",IF(Z16="Catastrófico","4"," "))))) -> 3 | AB16: =IF(AC16=1,"Menor",IF(AC16=2,"Moderado",IF(AC16=3,"Mayor",IF(AC16=4,"Catastrófico"," ")))) -> Catastrófico | AC16: =MAX(P16,Q16,S16,U16,W16,Y16,AA16) -> 4 | AD16: =IF(AE16>=10.1,"Extremo",IF(AE16>=6.1,"Alto",IF(AE16>=3.1,"Moderado",IF(AE16>0,"Bajo"," ")))) -> Moderado | AE16: =+O16*AC16 -> 4 | AF16: =CONCATENATE(N16,AB16) -> RaroCatastrófico | AG16: 1- Falta de contraseñas y controles de acceso logico a los equipos de computo | AH16: Si | AI16: 1- Equipos de computo en funcionamiento y con acceso a la red con usuarios y contraseñas autorizadas. | AJ16: Si | AK16: Si | AL16: Si | AM16: Raro | AN16: =IF(AM16="Raro","1",IF(AM16="Posible","2",IF(AM16="Probable","3",IF(AM16="Muy Probable","4"," ")))) -> 1 | AO16: Mayor | AP16: Mayor | AQ16: Moderado | AR16: Mayor | AS16: Moderado | AT16: Mayor | AU16: Mayor | AV16: Mayor | AW16: Moderado | AX16: Mayor | AY16: Moderado | AZ16: =_xlfn.NUMBERVALUE(IF(AY16="Menor","1",IF(AY16="Moderado","2",IF(AY16="Mayor","3",IF(AY16="Catastrófico","4"," "))))) -> 2 | BA16: =IF(BB16=1,"Menor",IF(BB16=2,"Moderado",IF(BB16=3,"Mayor",IF(BB16=4,"Catastrófico"," ")))) -> Moderado | BB16: =MAX(AP16,AR16,AT16,AV16,AX16,AZ16) -> 2 | BC16: =IF(BD16>=10.1,"Extremo",IF(BD16>=6.1,"Alto",IF(BD16>=3.1,"Moderado",IF(BD16>0,"Bajo"," ")))) -> Bajo | BD16: =AN16*BB16 -> 2 | BE16: =CONCATENATE(AM16,BA16) -> RaroModerado | BF16: Asumir | BG16: Documentar completamente el proceso de entrega y asignacion de equipos de computo | BH16: * Profesional universitario sistemas * Apoyo sistemas | BI16: 45427 | BJ16: 1- Los equipos de computo se encuentran en funcionamiento y cuentan con el respectivo usuario y contraseña | BK16: Cerrada | BL16: Eficaz

Sheet IDEN.OPORTUNIDADES 
B4: FECHA ULTIMA REVISIÓN: Febrero de 2024
B5: N° | C5: IDENTIFICACIÓN DE OPORTUNIDADES | D5: VII. PLAN DE ACCIÓN | G5: VII. SEGUIMIENTO AL PLAN DE ACCIÓN
D6: Descripción de las Actividades a Seguir | E6: Responsable de las Actividades | F6: Fecha Límite de Cumplimiento de las Actividades | G6: Seguimiento a las Actividades | H6: Avance de la Actividades | I6: Evaluación de las Actividades
B8: O-GTI-001 | C8: Adquisición de software para mesa de servicio | D8: 1- Revisar los recursos presupuestalmente 2- Investigar las opciones del mercado | E8: 1 y 2 Profesional universitario en sistemas | F8: 15 de octubre de 2024 | G8: Se asigo recurso presupuestal para la vigencia 2024 y se analizaran las propuestas vigentes en el mercado | H8: En Proceso | I8: N.A.

Sheet DEFINICION DE OPORTUNIDAD
G8: 1.13 IDENTIFICACION DE OPORTUNIDADES
G9: Se deben identificar las oportunidades (riesgos positivos) que puedan conllevar a la satisfacción de los usuarios, tales como, la apertura de nuevos mercados, el uso de nuevas tecnologías u otros objetivos que permitan garantizar la adopción de nuevas prácticas en la entidad.

Sheet ANALISIS PROBABILIDAD
B1: Anticorrupción | D1: SI
B2: Seguridad y Salud en el Trabajo | D2: NO
B3: Calidad
B4: MECI
B5: MIPG
B6: Seguridad de la Información
B7: Ambiental
B8: Sistema Integrado de Gestión.
B11: Juridico
B12: Adminitrativo
B13: Producto y/o servicio
B14: Financiero
B15: Corrupción
B16: Estrategico
... B22: ANÁLISIS DE PROBABILIDAD DE OCURRENCIA
B24: NIVEL | C24: CRITERIO | D24: DESCRIPCIÓN
B25: 1 | C25: Raro | D25: El evento podría ocurrir en circunstancias excepcionales, durante la vivencia del proceso.
B26: 2 | C26: Posible | D26: El evento podría ocurrir con frecuencia moderada, durante la vivencia del proceso.
B27: 3 | C27: Probable | D27: El evento podría ocurrir con frecuencia alta, durante la vivencia del proceso.
B28: 4 | C28: Muy Probable | D28: El evento podría ocurrir con seguridad, durante la vivencia del proceso.

Sheet ANALISIS IMPACTO
B2: ANÁLISIS DEL IMPACTO DEL RIESGO
B4: ESCALA DE CALIFICACIÓN IMPACTO
B5: Ítem | C5: Descripción | F5: VALOR
B6: Menor | C6: Si el evento llegara a presentarse, tendría consecuencias de relevancia mínima. | F6: 1
B7: Moderado | C7: Si el evento llegara a presentarse, tendría consecuencias de relevancia media. | F7: 2
B8: Mayor | C8: Si el evento llegara a presentarse, tendría consecuencias de relevancia alta. | F8: 3
B9: Catastrófico | C9: Si el evento llegara a presentarse, tendría consecuencias de relevancia extrema. | F9: 4
B11: CARACTERÍSTICAS A TENER EN CUENTA A LA HORA DE ANALIZAR IMPACTO
B13: IMPACTO LEGAL - REGLAMENTARIO U OTROS
B14: NIVEL | C14: CONCEPTO
B15: 1 | C15: Hallazgos de No conformidades en auditorias internas por incumplimiento legal o reglamentario.
B16: 2 | C16: Quejas y reclamos.
B17: 3 | C17: Demandas o investigaciones por entes de vigilancia y control.
B18: 4 | C18: Multas y sanciones emitidas por entes de vigilancia y control.
B20: IMPACTO EN EL DESARROLLO INSTITUCIONAL
B21: NIVEL | C21: CONCEPTO
B22: 1 | C22: Afecta el cumplimiento de uno o varios objetivos estratégicos de una unidad académica o administrativa.
B23: 2 | C23: Afecta el cumplimiento del objetivo estratégico de un macroproceso de la Entidad.
B24: 3 | C24: Afecta el cumplimiento de uno o varios objetivos estratégicos institucionales.
B25: 4 | C25: Implica el redireccionamiento estratégico de la Entidad.
B27: IMPACTO REPUTACIONAL
B28: NIVEL | C28: CONCEPTO
B29: 1 | C29: Afecta la imagen de una o varias unidades.
B30: 2 | C30: Afecta la imagen de la Institución en el ámbito interno
B31: 3 | C31: Afecta la imagen de la Institución en el ámbito externo
B32: 4 | C32: Afecta la imagen de la Institución en el ámbito externo con consecuencias en la continuidad de la operación.
B34: IMPACTO ECONÓMICO
B35: NIVEL | C35: CONCEPTO
B36: 1 | C36: Afecta de manera controlada el presupuesto de una o varias unidades (se cubre con traslados internos o con adiciones con recursos propios).
B37: 2 | C37: Afecta el presupuesto de las unidades con repercusión en el cumplimiento de las metas planteadas en el plan de desarrollo.
B38: 3 | C38: Afecta el presupuesto institucional sin consecuencias en la continuidad de la operación (cambio en el flujo de caja de ingresos que obliga a replantear la estrategia financiera institucional).
B39: 4 | C39: Afecta el presupuesto institucional con consecuencias en la continuidad de la operación (incapacidad de cumplimiento en el pago a terceros).
B41: IMPACTO EN LAS PERSONAS
B42: NIVEL | C42: CONCEPTO
B43: 1 | C43: Afecta levemente la integridad de la persona en una o varias de las siguientes dimensiones: intelectual, psicoafectiva, física, familiar, social, espiritual y económica.
B44: 2 | C44: Afecta de manera moderada la integridad de la persona en una o varias de las siguientes dimensiones: intelectual, psicoafectiva, física, familiar, social, espiritual y económica.
B45: 3 | C45: Afecta de manera relevante la integridad de la persona en una o varias de las siguientes dimensiones: intelectual, psicoafectiva, física, familiar, social, espiritual y económica.
B46: 4 | C46: Afecta gravemente la integridad de la persona en una o varias de las siguientes dimensiones: intelectual, psicoafectiva, física, familiar, social, espiritual y económica.
B48: IMPACTO EN EL MEDIO AMBIENTE
B49: NIVEL | C49: CONCEPTO
...

Sheet EVALUACIÓN DEL RIESGO
B2: ANÁLISIS DEL NIVEL DE RIESGO
B4: TIPO | D4: VALOR
B5: Bajo | C5: MENOR (2) | D5: 1 | G5: 3
B6: Moderado | C6: MENOR (2) | D6: 3.1 | G6: 6
B7: Alto | C7: MAYOR (12) | D7: 6.1 | G7: 10
B8: Extremo | C8: CATASTROFICO (30) | D8: 10.1 | G8: 16
B11: EVALUACIÓN DEL RIESGO INHERENTE
B13: PROBABILIDAD | D13: IMPACTO
D14: Menor | I14: Moderado | N14: Mayor | S14: Catastrófico
B15: Raro | D15: =IF(CONCATENATE($B$15,$D$14)='MATRIZ DE RIESGO'!$AF$11,'MATRIZ DE RIESGO'!$B$11,"") | E15: =IF(CONCATENATE($B$15,$D$14)='MATRIZ DE RIESGO'!#REF!,'MATRIZ DE RIESGO'!#REF!,"") -> #REF! | F15: =IF(CONCATENATE($B$15,$D$14)='MATRIZ DE RIESGO'!#REF!,'MATRIZ DE RIESGO'!#REF!,"") -> #REF! | G15: =IF(CONCATENATE($B$15,$D$14)='MATRIZ DE RIESGO'!#REF!,'MATRIZ DE RIESGO'!#REF!,"") -> #REF! | H15: =IF(CONCATENATE($B$15,$D$14)='MATRIZ DE RIESGO'!#REF!,'MATRIZ DE RIESGO'!#REF!,"") -> #REF! | I15: =IF(CONCATENATE($B$15,$I$14)='MATRIZ DE RIESGO'!$AF$11,'MATRIZ DE RIESGO'!$B$11,"") -> R-GTI-001 | J15: =IF(CONCATENATE($B$15,$I$14)='MATRIZ DE RIESGO'!#REF!,'MATRIZ DE RIESGO'!#REF!,"") -> #REF! | K15: =IF(CONCATENATE($B$15,$I$14)='MATRIZ DE RIESGO'!#REF!,'MATRIZ DE RIESGO'!#REF!,"") -> #REF! | L15: =IF(CONCATENATE($B$15,$I$14)='MATRIZ DE RIESGO'!#REF!,'MATRIZ DE RIESGO'!#REF!,"") -> #REF! | M15: =IF(CONCATENATE($B$15,$I$14)='MATRIZ DE RIESGO'!#REF!,'MATRIZ DE RIESGO'!#REF!,"") -> #REF! | N15: =IF(CONCATENATE($B$15,$N$14)='MATRIZ DE RIESGO'!$AF$11,'MATRIZ DE RIESGO'!$B$11,"") | O15: =IF(CONCATENATE($B$15,$N$14)='MATRIZ DE RIESGO'!#REF!,'MATRIZ DE RIESGO'!#REF!,"") -> #REF! | P15: =IF(CONCATENATE($B$15,$N$14)='MATRIZ DE RIESGO'!#REF!,'MATRIZ DE RIESGO'!#REF!,"") -> #REF! | Q15: =IF(CONCATENATE($B$15,$N$14)='MATRIZ DE RIESGO'!#REF!,'MATRIZ DE RIESGO'!#REF!,"") -> #REF! | R15: =IF(CONCATENATE($B$15,$N$14)='MATRIZ DE RIESGO'!#REF!,'MATRIZ DE RIESGO'!#REF!,"") -> #REF! | S15: =IF(CONCATENATE($B$15,$S$14)='MATRIZ DE RIESGO'!$AF$11,'MATRIZ DE RIESGO'!$B$11,"") | T15: =IF(CONCATENATE($B$15,$S$14)='MATRIZ DE RIESGO'!#REF!,'MATRIZ DE RIESGO'!#REF!,"") -> #REF! | U15: =IF(CONCATENATE($B$15,$S$14)='MATRIZ DE RIESGO'!#REF!,'MATRIZ DE RIESGO'!#REF!,"") -> #REF! | V15: =IF(CONCATENATE($B$15,$S$14)='MATRIZ DE RIESGO'!#REF!,'MATRIZ DE RIESGO'!#REF!,"") -> #REF! | W15: =IF(CONCATENATE($B$15,$S$14)='MATRIZ DE RIESGO'!#REF!,'MATRIZ DE RIESGO'!#REF!,"") -> #REF!
D16: =IF(CONCATENATE($B$15,$D$14)='MATRIZ DE RIESGO'!#REF!,'MATRIZ DE RIESGO'!#REF!,"") -> #REF! | E16: =IF(CONCATENATE($B$15,$D$14)='MATRIZ DE RIESGO'!#REF!,'MATRIZ DE RIESGO'!#REF!,"") -> #REF! | F16: =IF(CONCATENATE($B$15,$D$14)='MATRIZ DE RIESGO'!#REF!,'MATRIZ DE RIESGO'!#REF!,"") -> #REF! | G16: =IF(CONCATENATE($B$15,$D$14)='MATRIZ DE RIESGO'!#REF!,'MATRIZ DE RIESGO'!#REF!,"") -> #REF! | H16: =IF(CONCATENATE($B$15,$D$14)='MATRIZ DE RIESGO'!#REF!,'MATRIZ DE RIESGO'!#REF!,"") -> #REF! | I16: =IF(CONCATENATE($B$15,$I$14)='MATRIZ DE RIESGO'!#REF!,'MATRIZ DE RIESGO'!#REF!,"") -> #REF! | J16: =IF(CONCATENATE($B$15,$I$14)='MATRIZ DE RIESGO'!#REF!,'MATRIZ DE RIESGO'!#REF!,"") -> #REF! | K16: =IF(CONCATENATE($B$15,$I$14)='MATRIZ DE RIESGO'!#REF!,'MATRIZ DE RIESGO'!#REF!,"") -> #REF! | L16: =IF(CONCATENATE($B$15,$I$14)='MATRIZ DE RIESGO'!#REF!,'MATRIZ DE RIESGO'!#REF!,"") -> #REF! | M16: =IF(CONCATENATE($B$15,$I$14)='MATRIZ DE RIESGO'!#REF!,'MATRIZ DE RIESGO'!#REF!,"") -> #REF! | N16: =IF(CONCATENATE($B$15,$N$14)='MATRIZ DE RIESGO'!#REF!,'MATRIZ DE RIESGO'!#REF!,"") -> #REF! | O16: =IF(CONCATENATE($B$15,$N$14)='MATRIZ DE RIESGO'!#REF!,'MATRIZ DE RIESGO'!#REF!,"") -> #REF! | P16: =IF(CONCATENATE($B$15,$N$14)='MATRIZ DE RIESGO'!#REF!,'MATRIZ DE RIESGO'!#REF!,"") -> #REF! | Q16: =IF(CONCATENATE($B$15,$N$14)='MATRIZ DE RIESGO'!#REF!,'MATRIZ DE RIESGO'!#REF!,"") -> #REF! | R16: =IF(CONCATENATE($B$15,$N$14)='MATRIZ DE RIESGO'!#REF!,'MATRIZ DE RIESGO'!#REF!,"") -> #REF! | S16: =IF(CONCATENATE($B$15,$S$14)='MATRIZ DE RIESGO'!#REF!,'MATRIZ DE RIESGO'!#REF!,"") -> #REF! | T16: =IF(CONCATENATE($B$15,$S$14)='MATRIZ DE RIESGO'!#REF!,'MATRIZ DE RIESGO'!#REF!,"") -> #REF! | U16: =IF(CONCATENATE($B$15,$S$14)='MATRIZ DE RIESGO'!#REF!,'MATRIZ DE RIESGO'!#REF!,"") -> #REF! | V16: =IF(CONCATENATE($B$15,$S$14)='MATRIZ DE RIESGO'!#REF!,'MATRIZ DE RIESGO'!#REF!,"") -> #REF! | W16: =IF(CONCATENATE($B$15,$S$14)='MATRIZ DE RIESGO'!#REF!,'MATRIZ DE RIESGO'!#REF!,"") -> #REF!
D17: =IF(CONCATENATE($B$15,$D$14)='MATRIZ DE RIESGO'!#REF!,'MATRIZ DE RIESGO'!#REF!,"") -> #REF! | E17: =IF(CONCATENATE($B$15,$D$14)='MATRIZ DE RIESGO'!#REF!,'MATRIZ DE RIESGO'!#REF!,"") -> #REF! | F17: =IF(CONCATENATE($B$15,$D$14)='MATRIZ DE RIESGO'!#REF!,'MATRIZ DE RIESGO'!#REF!,"") -> #REF! | G17: =IF(CONCATENATE($B$15,$D$14)='MATRIZ DE RIESGO'!#REF!,'MATRIZ DE RIESGO'!#REF!,"") -> #REF! | H17: =IF(CONCATENATE($B$15,$D$14)='MATRIZ DE RIESGO'!#REF!,'MATRIZ DE RIESGO'!#REF!,"") -> #REF! | I17: =IF(CONCATENATE($B$15,$I$14)='MATRIZ DE RIESGO'!#REF!,'MATRIZ DE RIESGO'!#REF!,"") -> #REF! | J17: =IF(CONCATENATE($B$15,$I$14)='MATRIZ DE RIESGO'!#REF!,'MATRIZ DE RIESGO'!#REF!,"") -> #REF! | K17: =IF(CONCATENATE($B$15,$I$14)='MATRIZ DE RIESGO'!#REF!,'MATRIZ DE RIESGO'!#REF!,"") -> #REF! | L17: =IF(CONCATENATE($B$15,$I$14)='MATRIZ DE RIESGO'!#REF!,'MATRIZ DE RIESGO'!#REF!,"") -> #REF! | M17: =IF(CONCATENATE($B$15,$I$14)='MATRIZ DE RIESGO'!#REF!,'MATRIZ DE RIESGO'!#REF!,"") -> #REF! | N17: =IF(CONCATENATE($B$15,$N$14)='MATRIZ DE RIESGO'!#REF!,'MATRIZ DE RIESGO'!#REF!,"") -> #REF! | O17: =IF(CONCATENATE($B$15,$N$14)='MATRIZ DE RIESGO'!#REF!,'MATRIZ DE RIESGO'!#REF!,"") -> #REF! | P17: =IF(CONCATENATE($B$15,$N$14)='MATRIZ DE RIESGO'!#REF!,'MATRIZ DE RIESGO'!#REF!,"") -> #REF! | Q17: =IF(CONCATENATE($B$15,$N$14)='MATRIZ DE RIESGO'!#REF!,'MATRIZ DE RIESGO'!#REF!,"") -> #REF! | R17: =IF(CONCATENATE($B$15,$N$14)='MATRIZ DE RIESGO'!#REF!,'MATRIZ DE RIESGO'!#REF!,"") -> #REF! | S17: =IF(CONCATENATE($B$15,$S$14)='MATRIZ DE RIESGO'!#REF!,'MATRIZ DE RIESGO'!#REF!,"") -> #REF! | T17: =IF(CONCATENATE($B$15,$S$14)='MATRIZ DE RIESGO'!#REF!,'MATRIZ DE RIESGO'!#REF!,"") -> #REF! | U17: =IF(CONCATENATE($B$15,$S$14)='MATRIZ DE RIESGO'!#REF!,'MATRIZ DE RIESGO'!#REF!,"") -> #REF! | V17: =IF(CONCATENATE($B$15,$S$14)='MATRIZ DE RIESGO'!#REF!,'MATRIZ DE RIESGO'!#REF!,"") -> #REF! | W17: =IF(CONCATENATE($B$15,$S$14)='MATRIZ DE RIESGO'!#REF!,'MATRIZ DE RIESGO'!#REF!,"") -> #REF!
D18: =IF(CONCATENATE($B$15,$D$14)='MATRIZ DE RIESGO'!#REF!,'MATRIZ DE RIESGO'!#REF!,"") -> #REF! | E18: =IF(CONCATENATE($B$15,$D$14)='MATRIZ DE RIESGO'!#REF!,'MATRIZ DE RIESGO'!#REF!,"") -> #REF! | F18: =IF(CONCATENATE($B$15,$D$14)='MATRIZ DE RIESGO'!#REF!,'MATRIZ DE RIESGO'!#REF!,"") -> #REF! | G18: =IF(CONCATENATE($B$15,$D$14)='MATRIZ DE RIESGO'!#REF!,'MATRIZ DE RIESGO'!#REF!,"") -> #REF! | H18: =IF(CONCATENATE($B$15,$D$14)='MATRIZ DE RIESGO'!#REF!,'MATRIZ DE RIESGO'!#REF!,"") -> #REF! | I18: =IF(CONCATENATE($B$15,$I$14)='MATRIZ DE RIESGO'!#REF!,'MATRIZ DE RIESGO'!#REF!,"") -> #REF! | J18: =IF(CONCATENATE($B$15,$I$14)='MATRIZ DE RIESGO'!#REF!,'MATRIZ DE RIESGO'!#REF!,"") -> #REF! | K18: =IF(CONCATENATE($B$15,$I$14)='MATRIZ DE RIESGO'!#REF!,'MATRIZ DE RIESGO'!#REF!,"") -> #REF! | L18: =IF(CONCATENATE($B$15,$I$14)='MATRIZ DE RIESGO'!#REF!,'MATRIZ DE RIESGO'!#REF!,"") -> #REF! | M18: =IF(CONCATENATE($B$15,$I$14)='MATRIZ DE RIESGO'!#REF!,'MATRIZ DE RIESGO'!#REF!,"") -> #REF! | N18: =IF(CONCATENATE($B$15,$N$14)='MATRIZ DE RIESGO'!#REF!,'MATRIZ DE RIESGO'!#REF!,"") -> #REF! | O18: =IF(CONCATENATE($B$15,$N$14)='MATRIZ DE RIESGO'!#REF!,'MATRIZ DE RIESGO'!#REF!,"") -> #REF! | P18: =IF(CONCATENATE($B$15,$N$14)='MATRIZ DE RIESGO'!#REF!,'MATRIZ DE RIESGO'!#REF!,"") -> #REF! | Q18: =IF(CONCATENATE($B$15,$N$14)='MATRIZ DE RIESGO'!#REF!,'MATRIZ DE RIESGO'!#REF!,"") -> #REF! | R18: =IF(CONCATENATE($B$15,$N$14)='MATRIZ DE RIESGO'!#REF!,'MATRIZ DE RIESGO'!#REF!,"") -> #REF! | S18: =IF(CONCATENATE($B$15,$S$14)='MATRIZ DE RIESGO'!#REF!,'MATRIZ DE RIESGO'!#REF!,"") -> #REF! | T18: =IF(CONCATENATE($B$15,$S$14)='MATRIZ DE RIESGO'!#REF!,'MATRIZ DE RIESGO'!#REF!,"") -> #REF! | U18: =IF(CONCATENATE($B$15,$S$14)='MATRIZ DE RIESGO'!#REF!,'MATRIZ DE RIESGO'!#REF!,"") -> #REF! | V18: =IF(CONCATENATE($B$15,$S$14)='MATRIZ DE RIESGO'!#REF!,'MATRIZ DE RIESGO'!#REF!,"") -> #REF! | W18: =IF(CONCATENATE($B$15,$S$14)='MATRIZ DE RIESGO'!#REF!,'MATRIZ DE RIESGO'!#REF!,"") -> #REF!
D19: =IF(CONCATENATE($B$15,$D$14)='MATRIZ DE RIESGO'!#REF!,'MATRIZ DE RIESGO'!#REF!,"") -> #REF! | E19: =IF(CONCATENATE($B$15,$D$14)='MATRIZ DE RIESGO'!#REF!,'MATRIZ DE RIESGO'!#REF!,"") -> #REF! | F19: =IF(CONCATENATE($B$15,$D$14)='MATRIZ DE RIESGO'!#REF!,'MATRIZ DE RIESGO'!#REF!,"") -> #REF! | G19: =IF(CONCATENATE($B$15,$D$14)='MATRIZ DE RIESGO'!#REF!,'MATRIZ DE RIESGO'!#REF!,"") -> #REF! | H19: =IF(CONCATENATE($B$15,$D$14)='MATRIZ DE RIESGO'!#REF!,'MATRIZ DE RIESGO'!#REF!,"") -> #REF! | I19: =IF(CONCATENATE($B$15,$I$14)='MATRIZ DE RIESGO'!#REF!,'MATRIZ DE RIESGO'!#REF!,"") -> #REF! | J19: =IF(CONCATENATE($B$15,$I$14)='MATRIZ DE RIESGO'!#REF!,'MATRIZ DE RIESGO'!#REF!,"") -> #REF! | K19: =IF(CONCATENATE($B$15,$I$14)='MATRIZ DE RIESGO'!#REF!,'MATRIZ DE RIESGO'!#REF!,"") -> #REF! | L19: =IF(CONCATENATE($B$15,$I$14)='MATRIZ DE RIESGO'!#REF!,'MATRIZ DE RIESGO'!#REF!,"") -> #REF! | M19: =IF(CONCATENATE($B$15,$I$14)='MATRIZ DE RIESGO'!#REF!,'MATRIZ DE RIESGO'!#REF!,"") -> #REF! | N19: =IF(CONCATENATE($B$15,$N$14)='MATRIZ DE RIESGO'!#REF!,'MATRIZ DE RIESGO'!#REF!,"") -> #REF! | O19: =IF(CONCATENATE($B$15,$N$14)='MATRIZ DE RIESGO'!#REF!,'MATRIZ DE RIESGO'!#REF!,"") -> #REF! | P19: =IF(CONCATENATE($B$15,$N$14)='MATRIZ DE RIESGO'!#REF!,'MATRIZ DE RIESGO'!#REF!,"") -> #REF! | Q19: =IF(CONCATENATE($B$15,$N$14)='MATRIZ DE RIESGO'!#REF!,'MATRIZ DE RIESGO'!#REF!,"") -> #REF! | R19: =IF(CONCATENATE($B$15,$N$14)='MATRIZ DE RIESGO'!#REF!,'MATRIZ DE RIESGO'!#REF!,"") -> #REF! | S19: =IF(CONCATENATE($B$15,$S$14)='MATRIZ DE RIESGO'!#REF!,'MATRIZ DE RIESGO'!#REF!,"") -> #REF! | T19: =IF(CONCATENATE($B$15,$S$14)='MATRIZ DE RIESGO'!#REF!,'MATRIZ DE RIESGO'!#REF!,"") -> #REF! | U19: =IF(CONCATENATE($B$15,$S$14)='MATRIZ DE RIESGO'!#REF!,'MATRIZ DE RIESGO'!#REF!,"") -> #REF! | V19: =IF(CONCATENATE($B$15,$S$14)='MATRIZ DE RIESGO'!#REF!,'MATRIZ DE RIESGO'!#REF!,"") -> #REF! | W19: =IF(CONCATENATE($B$15,$S$14)='MATRIZ DE RIESGO'!#REF!,'MATRIZ DE RIESGO'!#REF!,"") -> #REF!
B20: Posible | D20: =IF(CONCATENATE($B$20,$D$14)='MATRIZ DE RIESGO'!$AF$11,'MATRIZ DE RIESGO'!$B$11,"") | E20: =IF(CONCATENATE($B$20,$D$14)='MATRIZ DE RIESGO'!#REF!,'MATRIZ DE RIESGO'!#REF!,"") -> #REF! | F20: =IF(CONCATENATE($B$20,$D$14)='MATRIZ DE RIESGO'!#REF!,'MATRIZ DE RIESGO'!#REF!,"") -> #REF! | G20: =IF(CONCATENATE($B$20,$D$14)='MATRIZ DE RIESGO'!#REF!,'MATRIZ DE RIESGO'!#REF!,"") -> #REF! | H20: =IF(CONCATENATE($B$20,$D$14)='MATRIZ DE RIESGO'!#REF!,'MATRIZ DE RIESGO'!#REF!,"") -> #REF! | I20: =IF(CONCATENATE($B$20,$I$14)='MATRIZ DE RIESGO'!$AF$11,'MATRIZ DE RIESGO'!$B$11,"") | J20: =IF(CONCATENATE($B$20,$I$14)='MATRIZ DE RIESGO'!#REF!,'MATRIZ DE RIESGO'!#REF!,"") -> #REF! | K20: =IF(CONCATENATE($B$20,$I$14)='MATRIZ DE RIESGO'!#REF!,'MATRIZ DE RIESGO'!#REF!,"") -> #REF! | L20: =IF(CONCATENATE($B$20,$I$14)='MATRIZ DE RIESGO'!#REF!,'MATRIZ DE RIESGO'!#REF!,"") -> #REF! | M20: =IF(CONCATENATE($B$20,$I$14)='MATRIZ DE RIESGO'!#REF!,'MATRIZ DE RIESGO'!#REF!,"") -> #REF! | N20: =IF(CONCATENATE($B$20,$N$14)='MATRIZ DE RIESGO'!$AF$11,'MATRIZ DE RIESGO'!$B$11,"") | O20: =IF(CONCATENATE($B$20,$N$14)='MATRIZ DE RIESGO'!#REF!,'MATRIZ DE RIESGO'!#REF!,"") -> #REF! | P20: =IF(CONCATENATE($B$20,$N$14)='MATRIZ DE RIESGO'!#REF!,'MATRIZ DE RIESGO'!#REF!,"") -> #REF! | Q20: =IF(CONCATENATE($B$20,$N$14)='MATRIZ DE RIESGO'!#REF!,'MATRIZ DE RIESGO'!#REF!,"") -> #REF! | R20: =IF(CONCATENATE($B$20,$N$14)='MATRIZ DE RIESGO'!#REF!,'MATRIZ DE RIESGO'!#REF!,"") -> #REF! | S20: =IF(CONCATENATE($B$20,$S$14)='MATRIZ DE RIESGO'!$AF$11,'MATRIZ DE RIESGO'!$B$11,"") | T20: =IF(CONCATENATE($B$20,$S$14)='MATRIZ DE RIESGO'!#REF!,'MATRIZ DE RIESGO'!#REF!,"") -> #REF! | U20: =IF(CONCATENATE($B$20,$S$14)='MATRIZ DE RIESGO'!#REF!,'MATRIZ DE RIESGO'!#REF!,"") -> #REF! | V20: =IF(CONCATENATE($B$20,$S$14)='MATRIZ DE RIESGO'!#REF!,'MATRIZ DE RIESGO'!#REF!,"") -> #REF! | W20: =IF(CONCATENATE($B$20,$S$14)='MATRIZ DE RIESGO'!#REF!,'MATRIZ DE RIESGO'!#REF!,"") -> #REF!
D21: =IF(CONCATENATE($B$20,$D$14)='MATRIZ DE RIESGO'!#REF!,'MATRIZ DE RIESGO'!#REF!,"") -> #REF! | E21: =IF(CONCATENATE($B$20,$D$14)='MATRIZ DE RIESGO'!#REF!,'MATRIZ DE RIESGO'!#REF!,"") -> #REF! | F21: =IF(CONCATENATE($B$20,$D$14)='MATRIZ DE RIESGO'!#REF!,'MATRIZ DE RIESGO'!#REF!,"") -> #REF! | G21: =IF(CONCATENATE($B$20,$D$14)='MATRIZ DE RIESGO'!#REF!,'MATRIZ DE RIESGO'!#REF!,"") -> #REF! | H21: =IF(CONCATENATE($B$20,$D$14)='MATRIZ DE RIESGO'!#REF!,'MATRIZ DE RIESGO'!#REF!,"") -> #REF! | I21: =IF(CONCATENATE($B$20,$I$14)='MATRIZ DE RIESGO'!#REF!,'MATRIZ DE RIESGO'!#REF!,"") -> #REF! | J21: =IF(CONCATENATE($B$20,$I$14)='MATRIZ DE RIESGO'!#REF!,'MATRIZ DE RIESGO'!#REF!,"") -> #REF! | K21: =IF(CONCATENATE($B$20,$I$14)='MATRIZ DE RIESGO'!#REF!,'MATRIZ DE RIESGO'!#REF!,"") -> #REF! | L21: =IF(CONCATENATE($B$20,$I$14)='MATRIZ DE RIESGO'!#REF!,'MATRIZ DE RIESGO'!#REF!,"") -> #REF! | M21: =IF(CONCATENATE($B$20,$I$14)='MATRIZ DE RIESGO'!#REF!,'MATRIZ DE RIESGO'!#REF!,"") -> #REF! | N21: =IF(CONCATENATE($B$20,$N$14)='MATRIZ DE RIESGO'!#REF!,'MATRIZ DE RIESGO'!#REF!,"") -> #REF! | O21: =IF(CONCATENATE($B$20,$N$14)='MATRIZ DE RIESGO'!#REF!,'MATRIZ DE RIESGO'!#REF!,"") -> #REF! | P21: =IF(CONCATENATE($B$20,$N$14)='MATRIZ DE RIESGO'!#REF!,'MATRIZ DE RIESGO'!#REF!,"") -> #REF! | Q21: =IF(CONCATENATE($B$20,$N$14)='MATRIZ DE RIESGO'!#REF!,'MATRIZ DE RIESGO'!#REF!,"") -> #REF! | R21: =IF(CONCATENATE($B$20,$N$14)='MATRIZ DE RIESGO'!#REF!,'MATRIZ DE RIESGO'!#REF!,"") -> #REF! | S21: =IF(CONCATENATE($B$20,$S$14)='MATRIZ DE RIESGO'!#REF!,'MATRIZ DE RIESGO'!#REF!,"") -> #REF! | T21: =IF(CONCATENATE($B$20,$S$14)='MATRIZ DE RIESGO'!#REF!,'MATRIZ DE RIESGO'!#REF!,"") -> #REF! | U21: =IF(CONCATENATE($B$20,$S$14)='MATRIZ DE RIESGO'!#REF!,'MATRIZ DE RIESGO'!#REF!,"") -> #REF! | V21: =IF(CONCATENATE($B$20,$S$14)='MATRIZ DE RIESGO'!#REF!,'MATRIZ DE RIESGO'!#REF!,"") -> #REF! | W21: =IF(CONCATENATE($B$20,$S$14)='MATRIZ DE RIESGO'!#REF!,'MATRIZ DE RIESGO'!#REF!,"") -> #REF!
D22: =IF(CONCATENATE($B$20,$D$14)='MATRIZ DE RIESGO'!#REF!,'MATRIZ DE RIESGO'!#REF!,"") -> #REF! | E22: =IF(CONCATENATE($B$20,$D$14)='MATRIZ DE RIESGO'!#REF!,'MATRIZ DE RIESGO'!#REF!,"") -> #REF! | F22: =IF(CONCATENATE($B$20,$D$14)='MATRIZ DE RIESGO'!#REF!,'MATRIZ DE RIESGO'!#REF!,"") -> #REF! | G22: =IF(CONCATENATE($B$20,$D$14)='MATRIZ DE RIESGO'!#REF!,'MATRIZ DE RIESGO'!#REF!,"") -> #REF! | H22: =IF(CONCATENATE($B$20,$D$14)='MATRIZ DE RIESGO'!#REF!,'MATRIZ DE RIESGO'!#REF!,"") -> #REF! | I22: =IF(CONCATENATE($B$20,$I$14)='MATRIZ DE RIESGO'!#REF!,'MATRIZ DE RIESGO'!#REF!,"") -> #REF! | J22: =IF(CONCATENATE($B$20,$I$14)='MATRIZ DE RIESGO'!#REF!,'MATRIZ DE RIESGO'!#REF!,"") -> #REF! | K22: =IF(CONCATENATE($B$20,$I$14)='MATRIZ DE RIESGO'!#REF!,'MATRIZ DE RIESGO'!#REF!,"") -> #REF! | L22: =IF(CONCATENATE($B$20,$I$14)='MATRIZ DE RIESGO'!#REF!,'MATRIZ DE RIESGO'!#REF!,"") -> #REF! | M22: =IF(CONCATENATE($B$20,$I$14)='MATRIZ DE RIESGO'!#REF!,'MATRIZ DE RIESGO'!#REF!,"") -> #REF! | N22: =IF(CONCATENATE($B$20,$N$14)='MATRIZ DE RIESGO'!#REF!,'MATRIZ DE RIESGO'!#REF!,"") -> #REF! | O22: =IF(CONCATENATE($B$20,$N$14)='MATRIZ DE RIESGO'!#REF!,'MATRIZ DE RIESGO'!#REF!,"") -> #REF! | P22: =IF(CONCATENATE($B$20,$N$14)='MATRIZ DE RIESGO'!#REF!,'MATRIZ DE RIESGO'!#REF!,"") -> #REF! | Q22: =IF(CONCATENATE($B$20,$N$14)='MATRIZ DE RIESGO'!#REF!,'MATRIZ DE RIESGO'!#REF!,"") -> #REF! | R22: =IF(CONCATENATE($B$20,$N$14)='MATRIZ DE RIESGO'!#REF!,'MATRIZ DE RIESGO'!#REF!,"") -> #REF! | S22: =IF(CONCATENATE($B$20,$S$14)='MATRIZ DE RIESGO'!#REF!,'MATRIZ DE RIESGO'!#REF!,"") -> #REF! | T22: =IF(CONCATENATE($B$20,$S$14)='MATRIZ DE RIESGO'!#REF!,'MATRIZ DE RIESGO'!#REF!,"") -> #REF! | U22: =IF(CONCATENATE($B$20,$S$14)='MATRIZ DE RIESGO'!#REF!,'MATRIZ DE RIESGO'!#REF!,"") -> #REF! | V22: =IF(CONCATENATE($B$20,$S$14)='MATRIZ DE RIESGO'!#REF!,'MATRIZ DE RIESGO'!#REF!,"") -> #REF! | W22: =IF(CONCATENATE($B$20,$S$14)='MATRIZ DE RIESGO'!#REF!,'MATRIZ DE RIESGO'!#REF!,"") -> #REF!
D23: =IF(CONCATENATE($B$20,$D$14)='MATRIZ DE RIESGO'!#REF!,'MATRIZ DE RIESGO'!#REF!,"") -> #REF! | E23: =IF(CONCATENATE($B$20,$D$14)='MATRIZ DE RIESGO'!#REF!,'MATRIZ DE RIESGO'!#REF!,"") -> #REF! | F23: =IF(CONCATENATE($B$20,$D$14)='MATRIZ DE RIESGO'!#REF!,'MATRIZ DE RIESGO'!#REF!,"") -> #REF! | G23: =IF(CONCATENATE($B$20,$D$14)='MATRIZ DE RIESGO'!#REF!,'MATRIZ DE RIESGO'!#REF!,"") -> #REF! | H23: =IF(CONCATENATE($B$20,$D$14)='MATRIZ DE RIESGO'!#REF!,'MATRIZ DE RIESGO'!#REF!,"") -> #REF! | I23: =IF(CONCATENATE($B$20,$I$14)='MATRIZ DE RIESGO'!#REF!,'MATRIZ DE RIESGO'!#REF!,"") -> #REF! | J23: =IF(CONCATENATE($B$20,$I$14)='MATRIZ DE RIESGO'!#REF!,'MATRIZ DE RIESGO'!#REF!,"") -> #REF! | K23: =IF(CONCATENATE($B$20,$I$14)='MATRIZ DE RIESGO'!#REF!,'MATRIZ DE RIESGO'!#REF!,"") -> #REF! | L23: =IF(CONCATENATE($B$20,$I$14)='MATRIZ DE RIESGO'!#REF!,'MATRIZ DE RIESGO'!#REF!,"") -> #REF! | M23: =IF(CONCATENATE($B$20,$I$14)='MATRIZ DE RIESGO'!#REF!,'MATRIZ DE RIESGO'!#REF!,"") -> #REF! | N23: =IF(CONCATENATE($B$20,$N$14)='MATRIZ DE RIESGO'!#REF!,'MATRIZ DE RIESGO'!#REF!,"") -> #REF! | O23: =IF(CONCATENATE($B$20,$N$14)='MATRIZ DE RIESGO'!#REF!,'MATRIZ DE RIESGO'!#REF!,"") -> #REF! | P23: =IF(CONCATENATE($B$20,$N$14)='MATRIZ DE RIESGO'!#REF!,'MATRIZ DE RIESGO'!#REF!,"") -> #REF! | Q23: =IF(CONCATENATE($B$20,$N$14)='MATRIZ DE RIESGO'!#REF!,'MATRIZ DE RIESGO'!#REF!,"") -> #REF! | R23: =IF(CONCATENATE($B$20,$N$14)='MATRIZ DE RIESGO'!#REF!,'MATRIZ DE RIESGO'!#REF!,"") -> #REF! | S23: =IF(CONCATENATE($B$20,$S$14)='MATRIZ DE RIESGO'!#REF!,'MATRIZ DE RIESGO'!#REF!,"") -> #REF! | T23: =IF(CONCATENATE($B$20,$S$14)='MATRIZ DE RIESGO'!#REF!,'MATRIZ DE RIESGO'!#REF!,"") -> #REF! | U23: =IF(CONCATENATE($B$20,$S$14)='MATRIZ DE RIESGO'!#REF!,'MATRIZ DE RIESGO'!#REF!,"") -> #REF! | V23: =IF(CONCATENATE($B$20,$S$14)='MATRIZ DE RIESGO'!#REF!,'MATRIZ DE RIESGO'!#REF!,"") -> #REF! | W23: =IF(CONCATENATE($B$20,$S$14)='MATRIZ DE RIESGO'!#REF!,'MATRIZ DE RIESGO'!#REF!,"") -> #REF!
D24: =IF(CONCATENATE($B$20,$D$14)='MATRIZ DE RIESGO'!#REF!,'MATRIZ DE RIESGO'!#REF!,"") -> #REF! | E24: =IF(CONCATENATE($B$20,$D$14)='MATRIZ DE RIESGO'!#REF!,'MATRIZ DE RIESGO'!#REF!,"") -> #REF! | F24: =IF(CONCATENATE($B$20,$D$14)='MATRIZ DE RIESGO'!#REF!,'MATRIZ DE RIESGO'!#REF!,"") -> #REF! | G24: =IF(CONCATENATE($B$20,$D$14)='MATRIZ DE RIESGO'!#REF!,'MATRIZ DE RIESGO'!#REF!,"") -> #REF! | H24: =IF(CONCATENATE($B$20,$D$14)='MATRIZ DE RIESGO'!#REF!,'MATRIZ DE RIESGO'!#REF!,"") -> #REF! | I24: =IF(CONCATENATE($B$20,$I$14)='MATRIZ DE RIESGO'!#REF!,'MATRIZ DE RIESGO'!#REF!,"") -> #REF! | J24: =IF(CONCATENATE($B$20,$I$14)='MATRIZ DE RIESGO'!#REF!,'MATRIZ DE RIESGO'!#REF!,"") -> #REF! | K24: =IF(CONCATENATE($B$20,$I$14)='MATRIZ DE RIESGO'!#REF!,'MATRIZ DE RIESGO'!#REF!,"") -> #REF! | L24: =IF(CONCATENATE($B$20,$I$14)='MATRIZ DE RIESGO'!#REF!,'MATRIZ DE RIESGO'!#REF!,"") -> #REF! | M24: =IF(CONCATENATE($B$20,$I$14)='MATRIZ DE RIESGO'!#REF!,'MATRIZ DE RIESGO'!#REF!,"") -> #REF! | N24: =IF(CONCATENATE($B$20,$N$14)='MATRIZ DE RIESGO'!#REF!,'MATRIZ DE RIESGO'!#REF!,"") -> #REF! | O24: =IF(CONCATENATE($B$20,$N$14)='MATRIZ DE RIESGO'!#REF!,'MATRIZ DE RIESGO'!#REF!,"") -> #REF! | P24: =IF(CONCATENATE($B$20,$N$14)='MATRIZ DE RIESGO'!#REF!,'MATRIZ DE RIESGO'!#REF!,"") -> #REF! | Q24: =IF(CONCATENATE($B$20,$N$14)='MATRIZ DE RIESGO'!#REF!,'MATRIZ DE RIESGO'!#REF!,"") -> #REF! | R24: =IF(CONCATENATE($B$20,$N$14)='MATRIZ DE RIESGO'!#REF!,'MATRIZ DE RIESGO'!#REF!,"") -> #REF! | S24: =IF(CONCATENATE($B$20,$S$14)='MATRIZ DE RIESGO'!#REF!,'MATRIZ DE RIESGO'!#REF!,"") -> #REF! | T24: =IF(CONCATENATE($B$20,$S$14)='MATRIZ DE RIESGO'!#REF!,'MATRIZ DE RIESGO'!#REF!,"") -> #REF! | U24: =IF(CONCATENATE($B$20,$S$14)='MATRIZ DE RIESGO'!#REF!,'MATRIZ DE RIESGO'!#REF!,"") -> #REF! | V24: =IF(CONCATENATE($B$20,$S$14)='MATRIZ DE RIESGO'!#REF!,'MATRIZ DE RIESGO'!#REF!,"") -> #REF! | W24: =IF(CONCATENATE($B$20,$S$14)='MATRIZ DE RIESGO'!#REF!,'MATRIZ DE RIESGO'!#REF!,"") -> #REF!
B25: Probable | D25: =IF(CONCATENATE($B$25,$D$14)='MATRIZ DE RIESGO'!$AF$11,'MATRIZ DE RIESGO'!$B$11,"") | E25: =IF(CONCATENATE($B$25,$D$14)='MATRIZ DE RIESGO'!#REF!,'MATRIZ DE RIESGO'!#REF!,"") -> #REF! | F25: =IF(CONCATENATE($B$25,$D$14)='MATRIZ DE RIESGO'!#REF!,'MATRIZ DE RIESGO'!#REF!,"") -> #REF! | G25: =IF(CONCATENATE($B$25,$D$14)='MATRIZ DE RIESGO'!#REF!,'MATRIZ DE RIESGO'!#REF!,"") -> #REF! | H25: =IF(CONCATENATE($B$25,$D$14)='MATRIZ DE RIESGO'!#REF!,'MATRIZ DE RIESGO'!#REF!,"") -> #REF! | I25: =IF(CONCATENATE($B$25,$I$14)='MATRIZ DE RIESGO'!$AF$11,'MATRIZ DE RIESGO'!$B$11,"") | J25: =IF(CONCATENATE($B$25,$I$14)='MATRIZ DE RIESGO'!#REF!,'MATRIZ DE RIESGO'!#REF!,"") -> #REF! | K25: =IF(CONCATENATE($B$25,$I$14)='MATRIZ DE RIESGO'!#REF!,'MATRIZ DE RIESGO'!#REF!,"") -> #REF! | L25: =IF(CONCATENATE($B$25,$I$14)='MATRIZ DE RIESGO'!#REF!,'MATRIZ DE RIESGO'!#REF!,"") -> #REF! | M25: =IF(CONCATENATE($B$25,$I$14)='MATRIZ DE RIESGO'!#REF!,'MATRIZ DE RIESGO'!#REF!,"") -> #REF! | N25: =IF(CONCATENATE($B$25,$N$14)='MATRIZ DE RIESGO'!$AF$11,'MATRIZ DE RIESGO'!$B$11,"") | O25: =IF(CONCATENATE($B$25,$N$14)='MATRIZ DE RIESGO'!#REF!,'MATRIZ DE RIESGO'!#REF!,"") -> #REF! | P25: =IF(CONCATENATE($B$25,$N$14)='MATRIZ DE RIESGO'!#REF!,'MATRIZ DE RIESGO'!#REF!,"") -> #REF! | Q25: =IF(CONCATENATE($B$25,$N$14)='MATRIZ DE RIESGO'!#REF!,'MATRIZ DE RIESGO'!#REF!,"") -> #REF! | R25: =IF(CONCATENATE($B$25,$N$14)='MATRIZ DE RIESGO'!#REF!,'MATRIZ DE RIESGO'!#REF!,"") -> #REF! | S25: =IF(CONCATENATE($B$25,$S$14)='MATRIZ DE RIESGO'!$AF$11,'MATRIZ DE RIESGO'!$B$11,"") | T25: =IF(CONCATENATE($B$25,$S$14)='MATRIZ DE RIESGO'!#REF!,'MATRIZ DE RIESGO'!#REF!,"") -> #REF! | U25: =IF(CONCATENATE($B$25,$S$14)='MATRIZ DE RIESGO'!#REF!,'MATRIZ DE RIESGO'!#REF!,"") -> #REF! | V25: =IF(CONCATENATE($B$25,$S$14)='MATRIZ DE RIESGO'!#REF!,'MATRIZ DE RIESGO'!#REF!,"") -> #REF! | W25: =IF(CONCATENATE($B$25,$S$14)='MATRIZ DE RIESGO'!#REF!,'MATRIZ DE RIESGO'!#REF!,"") -> #REF!
D26: =IF(CONCATENATE($B$25,$D$14)='MATRIZ DE RIESGO'!#REF!,'MATRIZ DE RIESGO'!#REF!,"") -> #REF! | E26: =IF(CONCATENATE($B$25,$D$14)='MATRIZ DE RIESGO'!#REF!,'MATRIZ DE RIESGO'!#REF!,"") -> #REF! | F26: =IF(CONCATENATE($B$25,$D$14)='MATRIZ DE RIESGO'!#REF!,'MATRIZ DE RIESGO'!#REF!,"") -> #REF! | G26: =IF(CONCATENATE($B$25,$D$14)='MATRIZ DE RIESGO'!#REF!,'MATRIZ DE RIESGO'!#REF!,"") -> #REF! | H26: =IF(CONCATENATE($B$25,$D$14)='MATRIZ DE RIESGO'!#REF!,'MATRIZ DE RIESGO'!#REF!,"") -> #REF! | I26: =IF(CONCATENATE($B$25,$I$14)='MATRIZ DE RIESGO'!#REF!,'MATRIZ DE RIESGO'!#REF!,"") -> #REF! | J26: =IF(CONCATENATE($B$25,$I$14)='MATRIZ DE RIESGO'!#REF!,'MATRIZ DE RIESGO'!#REF!,"") -> #REF! | K26: =IF(CONCATENATE($B$25,$I$14)='MATRIZ DE RIESGO'!#REF!,'MATRIZ DE RIESGO'!#REF!,"") -> #REF! | L26: =IF(CONCATENATE($B$25,$I$14)='MATRIZ DE RIESGO'!#REF!,'MATRIZ DE RIESGO'!#REF!,"") -> #REF! | M26: =IF(CONCATENATE($B$25,$I$14)='MATRIZ DE RIESGO'!#REF!,'MATRIZ DE RIESGO'!#REF!,"") -> #REF! | N26: =IF(CONCATENATE($B$25,$N$14)='MATRIZ DE RIESGO'!#REF!,'MATRIZ DE RIESGO'!#REF!,"") -> #REF! | O26: =IF(CONCATENATE($B$25,$N$14)='MATRIZ DE RIESGO'!#REF!,'MATRIZ DE RIESGO'!#REF!,"") -> #REF! | P26: =IF(CONCATENATE($B$25,$N$14)='MATRIZ DE RIESGO'!#REF!,'MATRIZ DE RIESGO'!#REF!,"") -> #REF! | Q26: =IF(CONCATENATE($B$25,$N$14)='MATRIZ DE RIESGO'!#REF!,'MATRIZ DE RIESGO'!#REF!,"") -> #REF! | R26: =IF(CONCATENATE($B$25,$N$14)='MATRIZ DE RIESGO'!#REF!,'MATRIZ DE RIESGO'!#REF!,"") -> #REF! | S26: =IF(CONCATENATE($B$25,$S$14)='MATRIZ DE RIESGO'!#REF!,'MATRIZ DE RIESGO'!#REF!,"") -> #REF! | T26: =IF(CONCATENATE($B$25,$S$14)='MATRIZ DE RIESGO'!#REF!,'MATRIZ DE RIESGO'!#REF!,"") -> #REF! | U26: =IF(CONCATENATE($B$25,$S$14)='MATRIZ DE RIESGO'!#REF!,'MATRIZ DE RIESGO'!#REF!,"") -> #REF! | V26: =IF(CONCATENATE($B$25,$S$14)='MATRIZ DE RIESGO'!#REF!,'MATRIZ DE RIESGO'!#REF!,"") -> #REF! | W26: =IF(CONCATENATE($B$25,$S$14)='MATRIZ DE RIESGO'!#REF!,'MATRIZ DE RIESGO'!#REF!,"") -> #REF!
D27: =IF(CONCATENATE($B$25,$D$14)='MATRIZ DE RIESGO'!#REF!,'MATRIZ DE RIESGO'!#REF!,"") -> #REF! | E27: =IF(CONCATENATE($B$25,$D$14)='MATRIZ DE RIESGO'!#REF!,'MATRIZ DE RIESGO'!#REF!,"") -> #REF! | F27: =IF(CONCATENATE($B$25,$D$14)='MATRIZ DE RIESGO'!#REF!,'MATRIZ DE RIESGO'!#REF!,"") -> #REF! | G27: =IF(CONCATENATE($B$25,$D$14)='MATRIZ DE RIESGO'!#REF!,'MATRIZ DE RIESGO'!#REF!,"") -> #REF! | H27: =IF(CONCATENATE($B$25,$D$14)='MATRIZ DE RIESGO'!#REF!,'MATRIZ DE RIESGO'!#REF!,"") -> #REF! | I27: =IF(CONCATENATE($B$25,$I$14)='MATRIZ DE RIESGO'!#REF!,'MATRIZ DE RIESGO'!#REF!,"") -> #REF! | J27: =IF(CONCATENATE($B$25,$I$14)='MATRIZ DE RIESGO'!#REF!,'MATRIZ DE RIESGO'!#REF!,"") -> #REF! | K27: =IF(CONCATENATE($B$25,$I$14)='MATRIZ DE RIESGO'!#REF!,'MATRIZ DE RIESGO'!#REF!,"") -> #REF! | L27: =IF(CONCATENATE($B$25,$I$14)='MATRIZ DE RIESGO'!#REF!,'MATRIZ DE RIESGO'!#REF!,"") -> #REF! | M27: =IF(CONCATENATE($B$25,$I$14)='MATRIZ DE RIESGO'!#REF!,'MATRIZ DE RIESGO'!#REF!,"") -> #REF! | N27: =IF(CONCATENATE($B$25,$N$14)='MATRIZ DE RIESGO'!#REF!,'MATRIZ DE RIESGO'!#REF!,"") -> #REF! | O27: =IF(CONCATENATE($B$25,$N$14)='MATRIZ DE RIESGO'!#REF!,'MATRIZ DE RIESGO'!#REF!,"") -> #REF! | P27: =IF(CONCATENATE($B$25,$N$14)='MATRIZ DE RIESGO'!#REF!,'MATRIZ DE RIESGO'!#REF!,"") -> #REF! | Q27: =IF(CONCATENATE($B$25,$N$14)='MATRIZ DE RIESGO'!#REF!,'MATRIZ DE RIESGO'!#REF!,"") -> #REF! | R27: =IF(CONCATENATE($B$25,$N$14)='MATRIZ DE RIESGO'!#REF!,'MATRIZ DE RIESGO'!#REF!,"") -> #REF! | S27: =IF(CONCATENATE($B$25,$S$14)='MATRIZ DE RIESGO'!#REF!,'MATRIZ DE RIESGO'!#REF!,"") -> #REF! | T27: =IF(CONCATENATE($B$25,$S$14)='MATRIZ DE RIESGO'!#REF!,'MATRIZ DE RIESGO'!#REF!,"") -> #REF! | U27: =IF(CONCATENATE($B$25,$S$14)='MATRIZ DE RIESGO'!#REF!,'MATRIZ DE RIESGO'!#REF!,"") -> #REF! | V27: =IF(CONCATENATE($B$25,$S$14)='MATRIZ DE RIESGO'!#REF!,'MATRIZ DE RIESGO'!#REF!,"") -> #REF! | W27: =IF(CONCATENATE($B$25,$S$14)='MATRIZ DE RIESGO'!#REF!,'MATRIZ DE RIESGO'!#REF!,"") -> #REF!
D28: =IF(CONCATENATE($B$25,$D$14)='MATRIZ DE RIESGO'!#REF!,'MATRIZ DE RIESGO'!#REF!,"") -> #REF! | E28: =IF(CONCATENATE($B$25,$D$14)='MATRIZ DE RIESGO'!#REF!,'MATRIZ DE RIESGO'!#REF!,"") -> #REF! | F28: =IF(CONCATENATE($B$25,$D$14)='MATRIZ DE RIESGO'!#REF!,'MATRIZ DE RIESGO'!#REF!,"") -> #REF! | G28: =IF(CONCATENATE($B$25,$D$14)='MATRIZ DE RIESGO'!#REF!,'MATRIZ DE RIESGO'!#REF!,"") -> #REF! | H28: =IF(CONCATENATE($B$25,$D$14)='MATRIZ DE RIESGO'!#REF!,'MATRIZ DE RIESGO'!#REF!,"") -> #REF! | I28: =IF(CONCATENATE($B$25,$I$14)='MATRIZ DE RIESGO'!#REF!,'MATRIZ DE RIESGO'!#REF!,"") -> #REF! | J28: =IF(CONCATENATE($B$25,$I$14)='MATRIZ DE RIESGO'!#REF!,'MATRIZ DE RIESGO'!#REF!,"") -> #REF! | K28: =IF(CONCATENATE($B$25,$I$14)='MATRIZ DE RIESGO'!#REF!,'MATRIZ DE RIESGO'!#REF!,"") -> #REF! | L28: =IF(CONCATENATE($B$25,$I$14)='MATRIZ DE RIESGO'!#REF!,'MATRIZ DE RIESGO'!#REF!,"") -> #REF! | M28: =IF(CONCATENATE($B$25,$I$14)='MATRIZ DE RIESGO'!#REF!,'MATRIZ DE RIESGO'!#REF!,"") -> #REF! | N28: =IF(CONCATENATE($B$25,$N$14)='MATRIZ DE RIESGO'!#REF!,'MATRIZ DE RIESGO'!#REF!,"") -> #REF! | O28: =IF(CONCATENATE($B$25,$N$14)='MATRIZ DE RIESGO'!#REF!,'MATRIZ DE RIESGO'!#REF!,"") -> #REF! | P28: =IF(CONCATENATE($B$25,$N$14)='MATRIZ DE RIESGO'!#REF!,'MATRIZ DE RIESGO'!#REF!,"") -> #REF! | Q28: =IF(CONCATENATE($B$25,$N$14)='MATRIZ DE RIESGO'!#REF!,'MATRIZ DE RIESGO'!#REF!,"") -> #REF! | R28: =IF(CONCATENATE($B$25,$N$14)='MATRIZ DE RIESGO'!#REF!,'MATRIZ DE RIESGO'!#REF!,"") -> #REF! | S28: =IF(CONCATENATE($B$25,$S$14)='MATRIZ DE RIESGO'!#REF!,'MATRIZ DE RIESGO'!#REF!,"") -> #REF! | T28: =IF(CONCATENATE($B$25,$S$14)='MATRIZ DE RIESGO'!#REF!,'MATRIZ DE RIESGO'!#REF!,"") -> #REF! | U28: =IF(CONCATENATE($B$25,$S$14)='MATRIZ DE RIESGO'!#REF!,'MATRIZ DE RIESGO'!#REF!,"") -> #REF! | V28: =IF(CONCATENATE($B$25,$S$14)='MATRIZ DE RIESGO'!#REF!,'MATRIZ DE RIESGO'!#REF!,"") -> #REF! | W28: =IF(CONCATENATE($B$25,$S$14)='MATRIZ DE RIESGO'!#REF!,'MATRIZ DE RIESGO'!#REF!,"") -> #REF!
D29: =IF(CONCATENATE($B$25,$D$14)='MATRIZ DE RIESGO'!#REF!,'MATRIZ DE RIESGO'!#REF!,"") -> #REF! | E29: =IF(CONCATENATE($B$25,$D$14)='MATRIZ DE RIESGO'!#REF!,'MATRIZ DE RIESGO'!#REF!,"") -> #REF! | F29: =IF(CONCATENATE($B$25,$D$14)='MATRIZ DE RIESGO'!#REF!,'MATRIZ DE RIESGO'!#REF!,"") -> #REF! | G29: =IF(CONCATENATE($B$25,$D$14)='MATRIZ DE RIESGO'!#REF!,'MATRIZ DE RIESGO'!#REF!,"") -> #REF! | H29: =IF(CONCATENATE($B$25,$D$14)='MATRIZ DE RIESGO'!#REF!,'MATRIZ DE RIESGO'!#REF!,"") -> #REF! | I29: =IF(CONCATENATE($B$25,$I$14)='MATRIZ DE RIESGO'!#REF!,'MATRIZ DE RIESGO'!#REF!,"") -> #REF! | J29: =IF(CONCATENATE($B$25,$I$14)='MATRIZ DE RIESGO'!#REF!,'MATRIZ DE RIESGO'!#REF!,"") -> #REF! | K29: =IF(CONCATENATE($B$25,$I$14)='MATRIZ DE RIESGO'!#REF!,'MATRIZ DE RIESGO'!#REF!,"") -> #REF! | L29: =IF(CONCATENATE($B$25,$I$14)='MATRIZ DE RIESGO'!#REF!,'MATRIZ DE RIESGO'!#REF!,"") -> #REF! | M29: =IF(CONCATENATE($B$25,$I$14)='MATRIZ DE RIESGO'!#REF!,'MATRIZ DE RIESGO'!#REF!,"") -> #REF! | N29: =IF(CONCATENATE($B$25,$N$14)='MATRIZ DE RIESGO'!#REF!,'MATRIZ DE RIESGO'!#REF!,"") -> #REF! | O29: =IF(CONCATENATE($B$25,$N$14)='MATRIZ DE RIESGO'!#REF!,'MATRIZ DE RIESGO'!#REF!,"") -> #REF! | P29: =IF(CONCATENATE($B$25,$N$14)='MATRIZ DE RIESGO'!#REF!,'MATRIZ DE RIESGO'!#REF!,"") -> #REF! | Q29: =IF(CONCATENATE($B$25,$N$14)='MATRIZ DE RIESGO'!#REF!,'MATRIZ DE RIESGO'!#REF!,"") -> #REF! | R29: =IF(CONCATENATE($B$25,$N$14)='MATRIZ DE RIESGO'!#REF!,'MATRIZ DE RIESGO'!#REF!,"") -> #REF! | S29: =IF(CONCATENATE($B$25,$S$14)='MATRIZ DE RIESGO'!#REF!,'MATRIZ DE RIESGO'!#REF!,"") -> #REF! | T29: =IF(CONCATENATE($B$25,$S$14)='MATRIZ DE RIESGO'!#REF!,'MATRIZ DE RIESGO'!#REF!,"") -> #REF! | U29: =IF(CONCATENATE($B$25,$S$14)='MATRIZ DE RIESGO'!#REF!,'MATRIZ DE RIESGO'!#REF!,"") -> #REF! | V29: =IF(CONCATENATE($B$25,$S$14)='MATRIZ DE RIESGO'!#REF!,'MATRIZ DE RIESGO'!#REF!,"") -> #REF! | W29: =IF(CONCATENATE($B$25,$S$14)='MATRIZ DE RIESGO'!#REF!,'MATRIZ DE RIESGO'!#REF!,"") -> #REF!
B30: Muy Probable | D30: =IF(CONCATENATE($B$30,$D$14)='MATRIZ DE RIESGO'!$AF$11,'MATRIZ DE RIESGO'!$B$11,"") | E30: =IF(CONCATENATE($B$30,$D$14)='MATRIZ DE RIESGO'!#REF!,'MATRIZ DE RIESGO'!#REF!,"") -> #REF! | F30: =IF(CONCATENATE($B$30,$D$14)='MATRIZ DE RIESGO'!#REF!,'MATRIZ DE RIESGO'!#REF!,"") -> #REF! | G30: =IF(CONCATENATE($B$30,$D$14)='MATRIZ DE RIESGO'!#REF!,'MATRIZ DE RIESGO'!#REF!,"") -> #REF! | H30: =IF(CONCATENATE($B$30,$D$14)='MATRIZ DE RIESGO'!#REF!,'MATRIZ DE RIESGO'!#REF!,"") -> #REF! | I30: =IF(CONCATENATE($B$30,$I$14)='MATRIZ DE RIESGO'!$AF$11,'MATRIZ DE RIESGO'!$B$11,"") | J30: =IF(CONCATENATE($B$30,$I$14)='MATRIZ DE RIESGO'!#REF!,'MATRIZ DE RIESGO'!#REF!,"") -> #REF! | K30: =IF(CONCATENATE($B$30,$I$14)='MATRIZ DE RIESGO'!#REF!,'MATRIZ DE RIESGO'!#REF!,"") -> #REF! | L30: =IF(CONCATENATE($B$30,$I$14)='MATRIZ DE RIESGO'!#REF!,'MATRIZ DE RIESGO'!#REF!,"") -> #REF! | M30: =IF(CONCATENATE($B$30,$I$14)='MATRIZ DE RIESGO'!#REF!,'MATRIZ DE RIESGO'!#REF!,"") -> #REF! | N30: =IF(CONCATENATE($B$30,$N$14)='MATRIZ DE RIESGO'!$AF$11,'MATRIZ DE RIESGO'!$B$11,"") | O30: =IF(CONCATENATE($B$30,$N$14)='MATRIZ DE RIESGO'!#REF!,'MATRIZ DE RIESGO'!#REF!,"") -> #REF! | P30: =IF(CONCATENATE($B$30,$N$14)='MATRIZ DE RIESGO'!#REF!,'MATRIZ DE RIESGO'!#REF!,"") -> #REF! | Q30: =IF(CONCATENATE($B$30,$N$14)='MATRIZ DE RIESGO'!#REF!,'MATRIZ DE RIESGO'!#REF!,"") -> #REF! | R30: =IF(CONCATENATE($B$30,$N$14)='MATRIZ DE RIESGO'!#REF!,'MATRIZ DE RIESGO'!#REF!,"") -> #REF! | S30: =IF(CONCATENATE($B$30,$S$14)='MATRIZ DE RIESGO'!$AF$11,'MATRIZ DE RIESGO'!$B$11,"") | T30: =IF(CONCATENATE($B$30,$S$14)='MATRIZ DE RIESGO'!#REF!,'MATRIZ DE RIESGO'!#REF!,"") -> #REF! | U30: =IF(CONCATENATE($B$30,$S$14)='MATRIZ DE RIESGO'!#REF!,'MATRIZ DE RIESGO'!#REF!,"") -> #REF! | V30: =IF(CONCATENATE($B$30,$S$14)='MATRIZ DE RIESGO'!#REF!,'MATRIZ DE RIESGO'!#REF!,"") -> #REF! | W30: =IF(CONCATENATE($B$30,$S$14)='MATRIZ DE RIESGO'!#REF!,'MATRIZ DE RIESGO'!#REF!,"") -> #REF!
